BEGIN:VCALENDAR
VERSION:2.0
PRODID: -//Q4 Inc.//EN
METHOD:PUBLISH
BEGIN:VTIMEZONE
TZID:America/New_York
X-LIC-LOCATION:America/New_York
BEGIN:DAYLIGHT
TZOFFSETFROM:-0500
TZOFFSETTO:-0400
TZNAME:EDT
DTSTART:19700308T020000
RRULE:FREQ=YEARLY;BYMONTH=3;BYDAY=2SU
END:DAYLIGHT
BEGIN:STANDARD
TZOFFSETFROM:-0400
TZOFFSETTO:-0500
TZNAME:EST
DTSTART:19701101T020000
RRULE:FREQ=YEARLY;BYMONTH=11;BYDAY=1SU
END:STANDARD
END:VTIMEZONE
BEGIN:VEVENT
ORGANIZER:MAILTO:IR@snapchat.com
DTSTART;TZID="America/New_York":20220523T171000
DTEND;TZID="America/New_York":20220523T181000
LOCATION:
UID:e1c0422e-8194-48d4-b636-5a44b1d76421
DTSTAMP:20260423T115616
SUMMARY:Snap Inc. at the J.P. Morgan Global Technology, Media and Communications Conference
DESCRIPTION: View More Information: https://investor.snap.com/events-and-presentations/events/event-details/2022/Snap-Inc-at-the-JP-Morgan-Global-Technology-Media-and-Communications-Conference/default.aspx
URL;VALUE=URI:https://investor.snap.com/events-and-presentations/events/event-details/2022/Snap-Inc-at-the-JP-Morgan-Global-Technology-Media-and-Communications-Conference/default.aspx
PRIORITY:5
CLASS:PUBLIC
END:VEVENT
END:VCALENDAR
